BEGIN:VCALENDAR
VERSION:2.0
PRODID:-//UNCG Recreation &amp; Wellness - ECPv6.15.18//NONSGML v1.0//EN
CALSCALE:GREGORIAN
METHOD:PUBLISH
X-WR-CALNAME:UNCG Recreation &amp; Wellness
X-ORIGINAL-URL:https://recwell.uncg.edu
X-WR-CALDESC:Events for UNCG Recreation &amp; Wellness
REFRESH-INTERVAL;VALUE=DURATION:PT1H
X-Robots-Tag:noindex
X-PUBLISHED-TTL:PT1H
BEGIN:VTIMEZONE
TZID:America/New_York
BEGIN:DAYLIGHT
TZOFFSETFROM:-0500
TZOFFSETTO:-0400
TZNAME:EDT
DTSTART:20240310T070000
END:DAYLIGHT
BEGIN:STANDARD
TZOFFSETFROM:-0400
TZOFFSETTO:-0500
TZNAME:EST
DTSTART:20241103T060000
END:STANDARD
BEGIN:DAYLIGHT
TZOFFSETFROM:-0500
TZOFFSETTO:-0400
TZNAME:EDT
DTSTART:20250309T070000
END:DAYLIGHT
BEGIN:STANDARD
TZOFFSETFROM:-0400
TZOFFSETTO:-0500
TZNAME:EST
DTSTART:20251102T060000
END:STANDARD
BEGIN:DAYLIGHT
TZOFFSETFROM:-0500
TZOFFSETTO:-0400
TZNAME:EDT
DTSTART:20260308T070000
END:DAYLIGHT
BEGIN:STANDARD
TZOFFSETFROM:-0400
TZOFFSETTO:-0500
TZNAME:EST
DTSTART:20261101T060000
END:STANDARD
END:VTIMEZONE
BEGIN:VEVENT
DTSTART;TZID=America/New_York:20250816T180000
DTEND;TZID=America/New_York:20250816T220000
DTSTAMP:20260419T221114
CREATED:20250630T162733Z
LAST-MODIFIED:20250630T162736Z
UID:10002335-1755367200-1755381600@recwell.uncg.edu
SUMMARY:RECFEST 2025
DESCRIPTION:Ready to party\, Spartan-style? RecFest 2025 is taking over the Kaplan Center on Saturday\, Aug. 16 from 6–10 PM with crate stacking\, gaming battles\, high-energy fitness classes\, court sports\, and a pool party you won’t want to miss! We’re raffling off big prizes\, handing out Whims ice cream vouchers\, and the first 400 students will snag a free\, limited-edition RecFest T-shirt. \n\n\n\nJust here for a workout? No worries—the Kaplan Center will be open for UNCG students during the event!
URL:https://recwell.uncg.edu/event/recfest-2025/
END:VEVENT
END:VCALENDAR