BEGIN:VCALENDAR
VERSION:2.0
PRODID:-//UNCG Recreation &amp; Wellness - ECPv6.15.18//NONSGML v1.0//EN
CALSCALE:GREGORIAN
METHOD:PUBLISH
X-ORIGINAL-URL:https://recwell.uncg.edu
X-WR-CALDESC:Events for UNCG Recreation &amp; Wellness
REFRESH-INTERVAL;VALUE=DURATION:PT1H
X-Robots-Tag:noindex
X-PUBLISHED-TTL:PT1H
BEGIN:VTIMEZONE
TZID:America/New_York
BEGIN:DAYLIGHT
TZOFFSETFROM:-0500
TZOFFSETTO:-0400
TZNAME:EDT
DTSTART:20240310T070000
END:DAYLIGHT
BEGIN:STANDARD
TZOFFSETFROM:-0400
TZOFFSETTO:-0500
TZNAME:EST
DTSTART:20241103T060000
END:STANDARD
BEGIN:DAYLIGHT
TZOFFSETFROM:-0500
TZOFFSETTO:-0400
TZNAME:EDT
DTSTART:20250309T070000
END:DAYLIGHT
BEGIN:STANDARD
TZOFFSETFROM:-0400
TZOFFSETTO:-0500
TZNAME:EST
DTSTART:20251102T060000
END:STANDARD
BEGIN:DAYLIGHT
TZOFFSETFROM:-0500
TZOFFSETTO:-0400
TZNAME:EDT
DTSTART:20260308T070000
END:DAYLIGHT
BEGIN:STANDARD
TZOFFSETFROM:-0400
TZOFFSETTO:-0500
TZNAME:EST
DTSTART:20261101T060000
END:STANDARD
END:VTIMEZONE
BEGIN:VEVENT
DTSTART;TZID=America/New_York:20251203T174500
DTEND;TZID=America/New_York:20251203T183000
DTSTAMP:20260419T105832
CREATED:20250821T222602Z
LAST-MODIFIED:20250821T225102Z
UID:10002548-1764783900-1764786600@recwell.uncg.edu
SUMMARY:Core/Stretch
DESCRIPTION:During this class individuals will get a full body stretch using movements that will increase flexibility\, decrease muscle tension\, focus on core strength of lower back and abdominal muscles\, and help improve muscular balance.
URL:https://recwell.uncg.edu/event/core-stretch/2025-12-03/
CATEGORIES:Core,Group Fitness,Strength
ATTACH;FMTTYPE=image/jpeg:https://recwell.uncg.edu/wp-content/uploads/Strength-1.jpg
END:VEVENT
BEGIN:VEVENT
DTSTART;TZID=America/New_York:20251126T174500
DTEND;TZID=America/New_York:20251126T183000
DTSTAMP:20260419T105832
CREATED:20250821T222602Z
LAST-MODIFIED:20250821T225102Z
UID:10002547-1764179100-1764181800@recwell.uncg.edu
SUMMARY:Core/Stretch
DESCRIPTION:During this class individuals will get a full body stretch using movements that will increase flexibility\, decrease muscle tension\, focus on core strength of lower back and abdominal muscles\, and help improve muscular balance.
URL:https://recwell.uncg.edu/event/core-stretch/2025-11-26/
CATEGORIES:Core,Group Fitness,Strength
ATTACH;FMTTYPE=image/jpeg:https://recwell.uncg.edu/wp-content/uploads/Strength-1.jpg
END:VEVENT
BEGIN:VEVENT
DTSTART;TZID=America/New_York:20251119T174500
DTEND;TZID=America/New_York:20251119T183000
DTSTAMP:20260419T105832
CREATED:20250821T222602Z
LAST-MODIFIED:20250821T225102Z
UID:10002546-1763574300-1763577000@recwell.uncg.edu
SUMMARY:Core/Stretch
DESCRIPTION:During this class individuals will get a full body stretch using movements that will increase flexibility\, decrease muscle tension\, focus on core strength of lower back and abdominal muscles\, and help improve muscular balance.
URL:https://recwell.uncg.edu/event/core-stretch/2025-11-19/
CATEGORIES:Core,Group Fitness,Strength
ATTACH;FMTTYPE=image/jpeg:https://recwell.uncg.edu/wp-content/uploads/Strength-1.jpg
END:VEVENT
BEGIN:VEVENT
DTSTART;TZID=America/New_York:20251112T174500
DTEND;TZID=America/New_York:20251112T183000
DTSTAMP:20260419T105832
CREATED:20250821T222602Z
LAST-MODIFIED:20250821T225102Z
UID:10002545-1762969500-1762972200@recwell.uncg.edu
SUMMARY:Core/Stretch
DESCRIPTION:During this class individuals will get a full body stretch using movements that will increase flexibility\, decrease muscle tension\, focus on core strength of lower back and abdominal muscles\, and help improve muscular balance.
URL:https://recwell.uncg.edu/event/core-stretch/2025-11-12/
CATEGORIES:Core,Group Fitness,Strength
ATTACH;FMTTYPE=image/jpeg:https://recwell.uncg.edu/wp-content/uploads/Strength-1.jpg
END:VEVENT
BEGIN:VEVENT
DTSTART;TZID=America/New_York:20251105T174500
DTEND;TZID=America/New_York:20251105T183000
DTSTAMP:20260419T105832
CREATED:20250821T222602Z
LAST-MODIFIED:20250821T225102Z
UID:10002544-1762364700-1762367400@recwell.uncg.edu
SUMMARY:Core/Stretch
DESCRIPTION:During this class individuals will get a full body stretch using movements that will increase flexibility\, decrease muscle tension\, focus on core strength of lower back and abdominal muscles\, and help improve muscular balance.
URL:https://recwell.uncg.edu/event/core-stretch/2025-11-05/
CATEGORIES:Core,Group Fitness,Strength
ATTACH;FMTTYPE=image/jpeg:https://recwell.uncg.edu/wp-content/uploads/Strength-1.jpg
END:VEVENT
BEGIN:VEVENT
DTSTART;TZID=America/New_York:20251029T174500
DTEND;TZID=America/New_York:20251029T183000
DTSTAMP:20260419T105832
CREATED:20250821T222602Z
LAST-MODIFIED:20250821T225102Z
UID:10002543-1761759900-1761762600@recwell.uncg.edu
SUMMARY:Core/Stretch
DESCRIPTION:During this class individuals will get a full body stretch using movements that will increase flexibility\, decrease muscle tension\, focus on core strength of lower back and abdominal muscles\, and help improve muscular balance.
URL:https://recwell.uncg.edu/event/core-stretch/2025-10-29/
CATEGORIES:Core,Group Fitness,Strength
ATTACH;FMTTYPE=image/jpeg:https://recwell.uncg.edu/wp-content/uploads/Strength-1.jpg
END:VEVENT
BEGIN:VEVENT
DTSTART;TZID=America/New_York:20251022T174500
DTEND;TZID=America/New_York:20251022T183000
DTSTAMP:20260419T105832
CREATED:20250821T222602Z
LAST-MODIFIED:20250821T225102Z
UID:10002542-1761155100-1761157800@recwell.uncg.edu
SUMMARY:Core/Stretch
DESCRIPTION:During this class individuals will get a full body stretch using movements that will increase flexibility\, decrease muscle tension\, focus on core strength of lower back and abdominal muscles\, and help improve muscular balance.
URL:https://recwell.uncg.edu/event/core-stretch/2025-10-22/
CATEGORIES:Core,Group Fitness,Strength
ATTACH;FMTTYPE=image/jpeg:https://recwell.uncg.edu/wp-content/uploads/Strength-1.jpg
END:VEVENT
BEGIN:VEVENT
DTSTART;TZID=America/New_York:20251015T174500
DTEND;TZID=America/New_York:20251015T183000
DTSTAMP:20260419T105832
CREATED:20250821T222602Z
LAST-MODIFIED:20250821T225102Z
UID:10002541-1760550300-1760553000@recwell.uncg.edu
SUMMARY:Core/Stretch
DESCRIPTION:During this class individuals will get a full body stretch using movements that will increase flexibility\, decrease muscle tension\, focus on core strength of lower back and abdominal muscles\, and help improve muscular balance.
URL:https://recwell.uncg.edu/event/core-stretch/2025-10-15/
CATEGORIES:Core,Group Fitness,Strength
ATTACH;FMTTYPE=image/jpeg:https://recwell.uncg.edu/wp-content/uploads/Strength-1.jpg
END:VEVENT
BEGIN:VEVENT
DTSTART;TZID=America/New_York:20251008T174500
DTEND;TZID=America/New_York:20251008T183000
DTSTAMP:20260419T105832
CREATED:20250821T222602Z
LAST-MODIFIED:20250821T225102Z
UID:10002540-1759945500-1759948200@recwell.uncg.edu
SUMMARY:Core/Stretch
DESCRIPTION:During this class individuals will get a full body stretch using movements that will increase flexibility\, decrease muscle tension\, focus on core strength of lower back and abdominal muscles\, and help improve muscular balance.
URL:https://recwell.uncg.edu/event/core-stretch/2025-10-08/
CATEGORIES:Core,Group Fitness,Strength
ATTACH;FMTTYPE=image/jpeg:https://recwell.uncg.edu/wp-content/uploads/Strength-1.jpg
END:VEVENT
BEGIN:VEVENT
DTSTART;TZID=America/New_York:20251001T174500
DTEND;TZID=America/New_York:20251001T183000
DTSTAMP:20260419T105832
CREATED:20250821T222602Z
LAST-MODIFIED:20250821T225102Z
UID:10002539-1759340700-1759343400@recwell.uncg.edu
SUMMARY:Core/Stretch
DESCRIPTION:During this class individuals will get a full body stretch using movements that will increase flexibility\, decrease muscle tension\, focus on core strength of lower back and abdominal muscles\, and help improve muscular balance.
URL:https://recwell.uncg.edu/event/core-stretch/2025-10-01/
CATEGORIES:Core,Group Fitness,Strength
ATTACH;FMTTYPE=image/jpeg:https://recwell.uncg.edu/wp-content/uploads/Strength-1.jpg
END:VEVENT
BEGIN:VEVENT
DTSTART;TZID=America/New_York:20250924T174500
DTEND;TZID=America/New_York:20250924T183000
DTSTAMP:20260419T105832
CREATED:20250821T222602Z
LAST-MODIFIED:20250821T225102Z
UID:10002538-1758735900-1758738600@recwell.uncg.edu
SUMMARY:Core/Stretch
DESCRIPTION:During this class individuals will get a full body stretch using movements that will increase flexibility\, decrease muscle tension\, focus on core strength of lower back and abdominal muscles\, and help improve muscular balance.
URL:https://recwell.uncg.edu/event/core-stretch/2025-09-24/
CATEGORIES:Core,Group Fitness,Strength
ATTACH;FMTTYPE=image/jpeg:https://recwell.uncg.edu/wp-content/uploads/Strength-1.jpg
END:VEVENT
BEGIN:VEVENT
DTSTART;TZID=America/New_York:20250917T174500
DTEND;TZID=America/New_York:20250917T183000
DTSTAMP:20260419T105832
CREATED:20250821T222602Z
LAST-MODIFIED:20250821T225102Z
UID:10002537-1758131100-1758133800@recwell.uncg.edu
SUMMARY:Core/Stretch
DESCRIPTION:During this class individuals will get a full body stretch using movements that will increase flexibility\, decrease muscle tension\, focus on core strength of lower back and abdominal muscles\, and help improve muscular balance.
URL:https://recwell.uncg.edu/event/core-stretch/2025-09-17/
CATEGORIES:Core,Group Fitness,Strength
ATTACH;FMTTYPE=image/jpeg:https://recwell.uncg.edu/wp-content/uploads/Strength-1.jpg
END:VEVENT
BEGIN:VEVENT
DTSTART;TZID=America/New_York:20250910T174500
DTEND;TZID=America/New_York:20250910T183000
DTSTAMP:20260419T105832
CREATED:20250821T222602Z
LAST-MODIFIED:20250821T225102Z
UID:10002536-1757526300-1757529000@recwell.uncg.edu
SUMMARY:Core/Stretch
DESCRIPTION:During this class individuals will get a full body stretch using movements that will increase flexibility\, decrease muscle tension\, focus on core strength of lower back and abdominal muscles\, and help improve muscular balance.
URL:https://recwell.uncg.edu/event/core-stretch/2025-09-10/
CATEGORIES:Core,Group Fitness,Strength
ATTACH;FMTTYPE=image/jpeg:https://recwell.uncg.edu/wp-content/uploads/Strength-1.jpg
END:VEVENT
BEGIN:VEVENT
DTSTART;TZID=America/New_York:20250903T174500
DTEND;TZID=America/New_York:20250903T183000
DTSTAMP:20260419T105832
CREATED:20250821T222602Z
LAST-MODIFIED:20250821T225102Z
UID:10002535-1756921500-1756924200@recwell.uncg.edu
SUMMARY:Core/Stretch
DESCRIPTION:During this class individuals will get a full body stretch using movements that will increase flexibility\, decrease muscle tension\, focus on core strength of lower back and abdominal muscles\, and help improve muscular balance.
URL:https://recwell.uncg.edu/event/core-stretch/2025-09-03/
CATEGORIES:Core,Group Fitness,Strength
ATTACH;FMTTYPE=image/jpeg:https://recwell.uncg.edu/wp-content/uploads/Strength-1.jpg
END:VEVENT
BEGIN:VEVENT
DTSTART;TZID=America/New_York:20250827T174500
DTEND;TZID=America/New_York:20250827T183000
DTSTAMP:20260419T105832
CREATED:20250821T222602Z
LAST-MODIFIED:20250821T225102Z
UID:10002349-1756316700-1756319400@recwell.uncg.edu
SUMMARY:Core/Stretch
DESCRIPTION:During this class individuals will get a full body stretch using movements that will increase flexibility\, decrease muscle tension\, focus on core strength of lower back and abdominal muscles\, and help improve muscular balance.
URL:https://recwell.uncg.edu/event/core-stretch/2025-08-27/
CATEGORIES:Core,Group Fitness,Strength
ATTACH;FMTTYPE=image/jpeg:https://recwell.uncg.edu/wp-content/uploads/Strength-1.jpg
END:VEVENT
END:VCALENDAR